BEGIN:VCALENDAR
VERSION:2.0
PRODID:-//Grace Lutheran  - ECPv6.15.16//NONSGML v1.0//EN
CALSCALE:GREGORIAN
METHOD:PUBLISH
X-WR-CALNAME:Grace Lutheran 
X-ORIGINAL-URL:https://graceoakcreek.org
X-WR-CALDESC:Events for Grace Lutheran 
REFRESH-INTERVAL;VALUE=DURATION:PT1H
X-Robots-Tag:noindex
X-PUBLISHED-TTL:PT1H
BEGIN:VTIMEZONE
TZID:America/Chicago
BEGIN:DAYLIGHT
TZOFFSETFROM:-0600
TZOFFSETTO:-0500
TZNAME:CDT
DTSTART:20190310T080000
END:DAYLIGHT
BEGIN:STANDARD
TZOFFSETFROM:-0500
TZOFFSETTO:-0600
TZNAME:CST
DTSTART:20191103T070000
END:STANDARD
BEGIN:DAYLIGHT
TZOFFSETFROM:-0600
TZOFFSETTO:-0500
TZNAME:CDT
DTSTART:20200308T080000
END:DAYLIGHT
BEGIN:STANDARD
TZOFFSETFROM:-0500
TZOFFSETTO:-0600
TZNAME:CST
DTSTART:20201101T070000
END:STANDARD
BEGIN:DAYLIGHT
TZOFFSETFROM:-0600
TZOFFSETTO:-0500
TZNAME:CDT
DTSTART:20210314T080000
END:DAYLIGHT
BEGIN:STANDARD
TZOFFSETFROM:-0500
TZOFFSETTO:-0600
TZNAME:CST
DTSTART:20211107T070000
END:STANDARD
END:VTIMEZONE
BEGIN:VEVENT
DTSTART;VALUE=DATE:20200410
DTEND;VALUE=DATE:20200414
DTSTAMP:20260425T153336
CREATED:20190822T141353Z
LAST-MODIFIED:20190822T141353Z
UID:13797-1586476800-1586822399@graceoakcreek.org
SUMMARY:No School Easter Break
DESCRIPTION:
URL:https://graceoakcreek.org/event/no-school-easter-break-2/
LOCATION:OAK CREEK\, WI\, 53154\, United States
CATEGORIES:School
END:VEVENT
BEGIN:VEVENT
DTSTART;TZID=America/Chicago:20200410T120000
DTEND;TZID=America/Chicago:20200410T130000
DTSTAMP:20260425T153336
CREATED:20200401T225417Z
LAST-MODIFIED:20200401T225417Z
UID:16580-1586520000-1586523600@graceoakcreek.org
SUMMARY:Good Friday Worship Service
DESCRIPTION:
URL:https://graceoakcreek.org/event/good-friday-worship-service/
LOCATION:Grace Lutheran Church\, 3381 E Puetz Rd\, Oak Creek \, WI\, 53154\, United States
END:VEVENT
BEGIN:VEVENT
DTSTART;TZID=America/Chicago:20200410T173000
DTEND;TZID=America/Chicago:20200410T180000
DTSTAMP:20260425T153336
CREATED:20200401T225527Z
LAST-MODIFIED:20200401T225527Z
UID:16582-1586539800-1586541600@graceoakcreek.org
SUMMARY:Good Friday Worship (Abbreviated) Service
DESCRIPTION:
URL:https://graceoakcreek.org/event/good-friday-worship-abbreviated-service/
LOCATION:Grace Lutheran Church\, 3381 E Puetz Rd\, Oak Creek \, WI\, 53154\, United States
END:VEVENT
BEGIN:VEVENT
DTSTART;TZID=America/Chicago:20200410T183000
DTEND;TZID=America/Chicago:20200410T193000
DTSTAMP:20260425T153336
CREATED:20200401T225643Z
LAST-MODIFIED:20200401T225643Z
UID:16584-1586543400-1586547000@graceoakcreek.org
SUMMARY:Good Friday Vespers Service
DESCRIPTION:Service will be on Facebook Live Stream
URL:https://graceoakcreek.org/event/good-friday-vespers-service/
LOCATION:Grace Lutheran Church\, 3381 E Puetz Rd\, Oak Creek \, WI\, 53154\, United States
END:VEVENT
END:VCALENDAR