BEGIN:VCALENDAR
VERSION:2.0
PRODID:-//Grace Lutheran  - ECPv6.15.16//NONSGML v1.0//EN
CALSCALE:GREGORIAN
METHOD:PUBLISH
X-ORIGINAL-URL:https://graceoakcreek.org
X-WR-CALDESC:Events for Grace Lutheran 
REFRESH-INTERVAL;VALUE=DURATION:PT1H
X-Robots-Tag:noindex
X-PUBLISHED-TTL:PT1H
BEGIN:VTIMEZONE
TZID:America/Chicago
BEGIN:DAYLIGHT
TZOFFSETFROM:-0600
TZOFFSETTO:-0500
TZNAME:CDT
DTSTART:20190310T080000
END:DAYLIGHT
BEGIN:STANDARD
TZOFFSETFROM:-0500
TZOFFSETTO:-0600
TZNAME:CST
DTSTART:20191103T070000
END:STANDARD
BEGIN:DAYLIGHT
TZOFFSETFROM:-0600
TZOFFSETTO:-0500
TZNAME:CDT
DTSTART:20200308T080000
END:DAYLIGHT
BEGIN:STANDARD
TZOFFSETFROM:-0500
TZOFFSETTO:-0600
TZNAME:CST
DTSTART:20201101T070000
END:STANDARD
BEGIN:DAYLIGHT
TZOFFSETFROM:-0600
TZOFFSETTO:-0500
TZNAME:CDT
DTSTART:20210314T080000
END:DAYLIGHT
BEGIN:STANDARD
TZOFFSETFROM:-0500
TZOFFSETTO:-0600
TZNAME:CST
DTSTART:20211107T070000
END:STANDARD
END:VTIMEZONE
BEGIN:VEVENT
DTSTART;TZID=America/Chicago:20201011T080000
DTEND;TZID=America/Chicago:20201011T090000
DTSTAMP:20260421T222032
CREATED:20200923T214940Z
LAST-MODIFIED:20200923T214940Z
UID:18392-1602403200-1602406800@graceoakcreek.org
SUMMARY:Divine Worship Service
DESCRIPTION:
URL:https://graceoakcreek.org/event/divine-worship-service-26/
END:VEVENT
BEGIN:VEVENT
DTSTART;TZID=America/Chicago:20201011T091500
DTEND;TZID=America/Chicago:20201011T101500
DTSTAMP:20260421T222032
CREATED:20200923T214351Z
LAST-MODIFIED:20200923T214351Z
UID:18386-1602407700-1602411300@graceoakcreek.org
SUMMARY:Christian Education Hour
DESCRIPTION:
URL:https://graceoakcreek.org/event/christian-education-hour-4/
END:VEVENT
BEGIN:VEVENT
DTSTART;TZID=America/Chicago:20201011T103000
DTEND;TZID=America/Chicago:20201011T113000
DTSTAMP:20260421T222032
CREATED:20200923T215022Z
LAST-MODIFIED:20200923T215022Z
UID:18394-1602412200-1602415800@graceoakcreek.org
SUMMARY:Divine Worship Service
DESCRIPTION:
URL:https://graceoakcreek.org/event/divine-worship-service-29/
END:VEVENT
BEGIN:VEVENT
DTSTART;TZID=America/Chicago:20201011T123000
DTEND;TZID=America/Chicago:20201011T140000
DTSTAMP:20260421T222032
CREATED:20200924T003938Z
LAST-MODIFIED:20200924T004021Z
UID:18416-1602419400-1602424800@graceoakcreek.org
SUMMARY:Grace Golf Outing
DESCRIPTION:-Grant Park\n-9 hole scramble\n-$30= golf\, cart\, 2 drinks
URL:https://graceoakcreek.org/event/grace-golf-outing/
END:VEVENT
END:VCALENDAR