BEGIN:VCALENDAR
VERSION:2.0
PRODID:-//Grace Lutheran  - ECPv6.15.16//NONSGML v1.0//EN
CALSCALE:GREGORIAN
METHOD:PUBLISH
X-WR-CALNAME:Grace Lutheran 
X-ORIGINAL-URL:https://graceoakcreek.org
X-WR-CALDESC:Events for Grace Lutheran 
REFRESH-INTERVAL;VALUE=DURATION:PT1H
X-Robots-Tag:noindex
X-PUBLISHED-TTL:PT1H
BEGIN:VTIMEZONE
TZID:America/Chicago
BEGIN:DAYLIGHT
TZOFFSETFROM:-0600
TZOFFSETTO:-0500
TZNAME:CDT
DTSTART:20190310T080000
END:DAYLIGHT
BEGIN:STANDARD
TZOFFSETFROM:-0500
TZOFFSETTO:-0600
TZNAME:CST
DTSTART:20191103T070000
END:STANDARD
BEGIN:DAYLIGHT
TZOFFSETFROM:-0600
TZOFFSETTO:-0500
TZNAME:CDT
DTSTART:20200308T080000
END:DAYLIGHT
BEGIN:STANDARD
TZOFFSETFROM:-0500
TZOFFSETTO:-0600
TZNAME:CST
DTSTART:20201101T070000
END:STANDARD
BEGIN:DAYLIGHT
TZOFFSETFROM:-0600
TZOFFSETTO:-0500
TZNAME:CDT
DTSTART:20210314T080000
END:DAYLIGHT
BEGIN:STANDARD
TZOFFSETFROM:-0500
TZOFFSETTO:-0600
TZNAME:CST
DTSTART:20211107T070000
END:STANDARD
END:VTIMEZONE
BEGIN:VEVENT
DTSTART;TZID=America/Chicago:20201025T080000
DTEND;TZID=America/Chicago:20201025T090000
DTSTAMP:20260419T163325
CREATED:20200923T215227Z
LAST-MODIFIED:20200923T215227Z
UID:18400-1603612800-1603616400@graceoakcreek.org
SUMMARY:Divine Worship Service
DESCRIPTION:
URL:https://graceoakcreek.org/event/divine-worship-service-32/
END:VEVENT
BEGIN:VEVENT
DTSTART;TZID=America/Chicago:20201025T091500
DTEND;TZID=America/Chicago:20201025T101500
DTSTAMP:20260419T163325
CREATED:20200923T214906Z
LAST-MODIFIED:20200923T214906Z
UID:18390-1603617300-1603620900@graceoakcreek.org
SUMMARY:Christian Education Hour
DESCRIPTION:
URL:https://graceoakcreek.org/event/christian-education-hour-6/
END:VEVENT
BEGIN:VEVENT
DTSTART;TZID=America/Chicago:20201025T103000
DTEND;TZID=America/Chicago:20201025T113000
DTSTAMP:20260419T163325
CREATED:20200923T215302Z
LAST-MODIFIED:20200923T215335Z
UID:18402-1603621800-1603625400@graceoakcreek.org
SUMMARY:Divine Worship Service
DESCRIPTION:
URL:https://graceoakcreek.org/event/divine-worship-service-33/
END:VEVENT
BEGIN:VEVENT
DTSTART;TZID=America/Chicago:20201025T113000
DTEND;TZID=America/Chicago:20201025T123000
DTSTAMP:20260419T163325
CREATED:20201012T172609Z
LAST-MODIFIED:20201012T172609Z
UID:18493-1603625400-1603629000@graceoakcreek.org
SUMMARY:Voter's Meeting
DESCRIPTION:
URL:https://graceoakcreek.org/event/voters-meeting-8/
END:VEVENT
END:VCALENDAR