BEGIN:VCALENDAR
VERSION:2.0
PRODID:-//Grace Lutheran  - ECPv6.15.16//NONSGML v1.0//EN
CALSCALE:GREGORIAN
METHOD:PUBLISH
X-ORIGINAL-URL:https://graceoakcreek.org
X-WR-CALDESC:Events for Grace Lutheran 
REFRESH-INTERVAL;VALUE=DURATION:PT1H
X-Robots-Tag:noindex
X-PUBLISHED-TTL:PT1H
BEGIN:VTIMEZONE
TZID:America/Chicago
BEGIN:DAYLIGHT
TZOFFSETFROM:-0600
TZOFFSETTO:-0500
TZNAME:CDT
DTSTART:20190310T080000
END:DAYLIGHT
BEGIN:STANDARD
TZOFFSETFROM:-0500
TZOFFSETTO:-0600
TZNAME:CST
DTSTART:20191103T070000
END:STANDARD
BEGIN:DAYLIGHT
TZOFFSETFROM:-0600
TZOFFSETTO:-0500
TZNAME:CDT
DTSTART:20200308T080000
END:DAYLIGHT
BEGIN:STANDARD
TZOFFSETFROM:-0500
TZOFFSETTO:-0600
TZNAME:CST
DTSTART:20201101T070000
END:STANDARD
BEGIN:DAYLIGHT
TZOFFSETFROM:-0600
TZOFFSETTO:-0500
TZNAME:CDT
DTSTART:20210314T080000
END:DAYLIGHT
BEGIN:STANDARD
TZOFFSETFROM:-0500
TZOFFSETTO:-0600
TZNAME:CST
DTSTART:20211107T070000
END:STANDARD
END:VTIMEZONE
BEGIN:VEVENT
DTSTART;TZID=America/Chicago:20201212T080000
DTEND;TZID=America/Chicago:20201212T093000
DTSTAMP:20260423T204014
CREATED:20201110T195720Z
LAST-MODIFIED:20201110T195720Z
UID:18668-1607760000-1607765400@graceoakcreek.org
SUMMARY:Rise and Sonshine Bible Study
DESCRIPTION:-We are meeting at church
URL:https://graceoakcreek.org/event/rise-and-sonshine-bible-study-3/
END:VEVENT
BEGIN:VEVENT
DTSTART;TZID=America/Chicago:20201212T100000
DTEND;TZID=America/Chicago:20201212T110000
DTSTAMP:20260423T204014
CREATED:20201110T195810Z
LAST-MODIFIED:20201110T195810Z
UID:18670-1607767200-1607770800@graceoakcreek.org
SUMMARY:Grace Ladies Guild
DESCRIPTION:-Meeting at church\, please use the upper entrance.
URL:https://graceoakcreek.org/event/grace-ladies-guild-2/
END:VEVENT
END:VCALENDAR