BEGIN:VCALENDAR
VERSION:2.0
PRODID:-//Grace Lutheran  - ECPv6.15.16//NONSGML v1.0//EN
CALSCALE:GREGORIAN
METHOD:PUBLISH
X-WR-CALNAME:Grace Lutheran 
X-ORIGINAL-URL:https://graceoakcreek.org
X-WR-CALDESC:Events for Grace Lutheran 
REFRESH-INTERVAL;VALUE=DURATION:PT1H
X-Robots-Tag:noindex
X-PUBLISHED-TTL:PT1H
BEGIN:VTIMEZONE
TZID:America/Chicago
BEGIN:DAYLIGHT
TZOFFSETFROM:-0600
TZOFFSETTO:-0500
TZNAME:CDT
DTSTART:20230312T080000
END:DAYLIGHT
BEGIN:STANDARD
TZOFFSETFROM:-0500
TZOFFSETTO:-0600
TZNAME:CST
DTSTART:20231105T070000
END:STANDARD
BEGIN:DAYLIGHT
TZOFFSETFROM:-0600
TZOFFSETTO:-0500
TZNAME:CDT
DTSTART:20240310T080000
END:DAYLIGHT
BEGIN:STANDARD
TZOFFSETFROM:-0500
TZOFFSETTO:-0600
TZNAME:CST
DTSTART:20241103T070000
END:STANDARD
BEGIN:DAYLIGHT
TZOFFSETFROM:-0600
TZOFFSETTO:-0500
TZNAME:CDT
DTSTART:20250309T080000
END:DAYLIGHT
BEGIN:STANDARD
TZOFFSETFROM:-0500
TZOFFSETTO:-0600
TZNAME:CST
DTSTART:20251102T070000
END:STANDARD
END:VTIMEZONE
BEGIN:VEVENT
DTSTART;TZID=America/Chicago:20240918T093000
DTEND;TZID=America/Chicago:20240918T103000
DTSTAMP:20260422T063748
CREATED:20240814T135506Z
LAST-MODIFIED:20240814T135506Z
UID:26429-1726651800-1726655400@graceoakcreek.org
SUMMARY:Ladies Bible study
DESCRIPTION:-meeting at church
URL:https://graceoakcreek.org/event/ladies-bible-study-87/
END:VEVENT
BEGIN:VEVENT
DTSTART;TZID=America/Chicago:20240918T183000
DTEND;TZID=America/Chicago:20240918T193000
DTSTAMP:20260422T063748
CREATED:20240909T171458Z
LAST-MODIFIED:20240909T171458Z
UID:26548-1726684200-1726687800@graceoakcreek.org
SUMMARY:2025 LCMS Youth Gathering meeting
DESCRIPTION:-registration meeting at school
URL:https://graceoakcreek.org/event/2025-lcms-youth-gathering-meeting/
END:VEVENT
END:VCALENDAR