BEGIN:VCALENDAR
VERSION:2.0
PRODID:-//Grace Lutheran  - ECPv6.15.16//NONSGML v1.0//EN
CALSCALE:GREGORIAN
METHOD:PUBLISH
X-ORIGINAL-URL:https://graceoakcreek.org
X-WR-CALDESC:Events for Grace Lutheran 
REFRESH-INTERVAL;VALUE=DURATION:PT1H
X-Robots-Tag:noindex
X-PUBLISHED-TTL:PT1H
BEGIN:VTIMEZONE
TZID:America/Chicago
BEGIN:DAYLIGHT
TZOFFSETFROM:-0600
TZOFFSETTO:-0500
TZNAME:CDT
DTSTART:20250309T080000
END:DAYLIGHT
BEGIN:STANDARD
TZOFFSETFROM:-0500
TZOFFSETTO:-0600
TZNAME:CST
DTSTART:20251102T070000
END:STANDARD
BEGIN:DAYLIGHT
TZOFFSETFROM:-0600
TZOFFSETTO:-0500
TZNAME:CDT
DTSTART:20260308T080000
END:DAYLIGHT
BEGIN:STANDARD
TZOFFSETFROM:-0500
TZOFFSETTO:-0600
TZNAME:CST
DTSTART:20261101T070000
END:STANDARD
BEGIN:DAYLIGHT
TZOFFSETFROM:-0600
TZOFFSETTO:-0500
TZNAME:CDT
DTSTART:20270314T080000
END:DAYLIGHT
BEGIN:STANDARD
TZOFFSETFROM:-0500
TZOFFSETTO:-0600
TZNAME:CST
DTSTART:20271107T070000
END:STANDARD
END:VTIMEZONE
BEGIN:VEVENT
DTSTART;TZID=America/Chicago:20260208T080000
DTEND;TZID=America/Chicago:20260208T090000
DTSTAMP:20260421T045938
CREATED:20251228T184934Z
LAST-MODIFIED:20251228T184934Z
UID:29281-1770537600-1770541200@graceoakcreek.org
SUMMARY:Divine Worship
DESCRIPTION:
URL:https://graceoakcreek.org/event/divine-worship-318/
END:VEVENT
BEGIN:VEVENT
DTSTART;TZID=America/Chicago:20260208T091500
DTEND;TZID=America/Chicago:20260208T101500
DTSTAMP:20260421T045938
CREATED:20260121T145533Z
LAST-MODIFIED:20260121T145533Z
UID:29533-1770542100-1770545700@graceoakcreek.org
SUMMARY:Adult Bible study
DESCRIPTION:
URL:https://graceoakcreek.org/event/adult-bible-study-36/
END:VEVENT
BEGIN:VEVENT
DTSTART;TZID=America/Chicago:20260208T103000
DTEND;TZID=America/Chicago:20260208T113000
DTSTAMP:20260421T045938
CREATED:20251228T185007Z
LAST-MODIFIED:20251228T185007Z
UID:29283-1770546600-1770550200@graceoakcreek.org
SUMMARY:Divine Worship
DESCRIPTION:
URL:https://graceoakcreek.org/event/divine-worship-319/
END:VEVENT
END:VCALENDAR