BEGIN:VCALENDAR
VERSION:2.0
PRODID:-//Grace Lutheran  - ECPv6.15.16//NONSGML v1.0//EN
CALSCALE:GREGORIAN
METHOD:PUBLISH
X-ORIGINAL-URL:https://graceoakcreek.org
X-WR-CALDESC:Events for Grace Lutheran 
REFRESH-INTERVAL;VALUE=DURATION:PT1H
X-Robots-Tag:noindex
X-PUBLISHED-TTL:PT1H
BEGIN:VTIMEZONE
TZID:America/Chicago
BEGIN:DAYLIGHT
TZOFFSETFROM:-0600
TZOFFSETTO:-0500
TZNAME:CDT
DTSTART:20250309T080000
END:DAYLIGHT
BEGIN:STANDARD
TZOFFSETFROM:-0500
TZOFFSETTO:-0600
TZNAME:CST
DTSTART:20251102T070000
END:STANDARD
BEGIN:DAYLIGHT
TZOFFSETFROM:-0600
TZOFFSETTO:-0500
TZNAME:CDT
DTSTART:20260308T080000
END:DAYLIGHT
BEGIN:STANDARD
TZOFFSETFROM:-0500
TZOFFSETTO:-0600
TZNAME:CST
DTSTART:20261101T070000
END:STANDARD
BEGIN:DAYLIGHT
TZOFFSETFROM:-0600
TZOFFSETTO:-0500
TZNAME:CDT
DTSTART:20270314T080000
END:DAYLIGHT
BEGIN:STANDARD
TZOFFSETFROM:-0500
TZOFFSETTO:-0600
TZNAME:CST
DTSTART:20271107T070000
END:STANDARD
END:VTIMEZONE
BEGIN:VEVENT
DTSTART;TZID=America/Chicago:20260506T093000
DTEND;TZID=America/Chicago:20260506T103000
DTSTAMP:20260421T074843
CREATED:20260303T160421Z
LAST-MODIFIED:20260303T160421Z
UID:30081-1778059800-1778063400@graceoakcreek.org
SUMMARY:Ladies Bible study
DESCRIPTION:-meeting at church
URL:https://graceoakcreek.org/event/ladies-bible-study-148/
END:VEVENT
BEGIN:VEVENT
DTSTART;TZID=America/Chicago:20260506T183000
DTEND;TZID=America/Chicago:20260506T200000
DTSTAMP:20260421T074843
CREATED:20260303T160605Z
LAST-MODIFIED:20260303T160605Z
UID:30085-1778092200-1778097600@graceoakcreek.org
SUMMARY:Grace All Boards Meetings
DESCRIPTION:
URL:https://graceoakcreek.org/event/grace-all-boards-meetings-3/
END:VEVENT
END:VCALENDAR