BEGIN:VCALENDAR
VERSION:2.0
PRODID:-//Grace Lutheran  - ECPv6.15.16//NONSGML v1.0//EN
CALSCALE:GREGORIAN
METHOD:PUBLISH
X-WR-CALNAME:Grace Lutheran 
X-ORIGINAL-URL:https://graceoakcreek.org
X-WR-CALDESC:Events for Grace Lutheran 
REFRESH-INTERVAL;VALUE=DURATION:PT1H
X-Robots-Tag:noindex
X-PUBLISHED-TTL:PT1H
BEGIN:VTIMEZONE
TZID:America/Chicago
BEGIN:DAYLIGHT
TZOFFSETFROM:-0600
TZOFFSETTO:-0500
TZNAME:CDT
DTSTART:20250309T080000
END:DAYLIGHT
BEGIN:STANDARD
TZOFFSETFROM:-0500
TZOFFSETTO:-0600
TZNAME:CST
DTSTART:20251102T070000
END:STANDARD
BEGIN:DAYLIGHT
TZOFFSETFROM:-0600
TZOFFSETTO:-0500
TZNAME:CDT
DTSTART:20260308T080000
END:DAYLIGHT
BEGIN:STANDARD
TZOFFSETFROM:-0500
TZOFFSETTO:-0600
TZNAME:CST
DTSTART:20261101T070000
END:STANDARD
BEGIN:DAYLIGHT
TZOFFSETFROM:-0600
TZOFFSETTO:-0500
TZNAME:CDT
DTSTART:20270314T080000
END:DAYLIGHT
BEGIN:STANDARD
TZOFFSETFROM:-0500
TZOFFSETTO:-0600
TZNAME:CST
DTSTART:20271107T070000
END:STANDARD
END:VTIMEZONE
BEGIN:VEVENT
DTSTART;TZID=America/Chicago:20260604T183000
DTEND;TZID=America/Chicago:20260604T193000
DTSTAMP:20260419T162542
CREATED:20260303T161133Z
LAST-MODIFIED:20260303T161133Z
UID:30097-1780597800-1780601400@graceoakcreek.org
SUMMARY:Divine Service
DESCRIPTION:
URL:https://graceoakcreek.org/event/divine-service-63/
END:VEVENT
BEGIN:VEVENT
DTSTART;TZID=America/Chicago:20260607T090000
DTEND;TZID=America/Chicago:20260607T100000
DTSTAMP:20260419T162542
CREATED:20260303T160757Z
LAST-MODIFIED:20260303T160757Z
UID:30089-1780822800-1780826400@graceoakcreek.org
SUMMARY:Divine Service
DESCRIPTION:
URL:https://graceoakcreek.org/event/divine-service-59/
END:VEVENT
BEGIN:VEVENT
DTSTART;TZID=America/Chicago:20260611T183000
DTEND;TZID=America/Chicago:20260611T193000
DTSTAMP:20260419T162542
CREATED:20260303T161239Z
LAST-MODIFIED:20260303T161239Z
UID:30099-1781202600-1781206200@graceoakcreek.org
SUMMARY:Divine Service
DESCRIPTION:
URL:https://graceoakcreek.org/event/divine-service-64/
END:VEVENT
BEGIN:VEVENT
DTSTART;TZID=America/Chicago:20260614T090000
DTEND;TZID=America/Chicago:20260614T100000
DTSTAMP:20260419T162542
CREATED:20260303T160909Z
LAST-MODIFIED:20260303T160909Z
UID:30091-1781427600-1781431200@graceoakcreek.org
SUMMARY:Divine Service
DESCRIPTION:
URL:https://graceoakcreek.org/event/divine-service-60/
END:VEVENT
BEGIN:VEVENT
DTSTART;TZID=America/Chicago:20260615T080000
DTEND;TZID=America/Chicago:20260619T120000
DTSTAMP:20260419T162542
CREATED:20260303T152306Z
LAST-MODIFIED:20260303T152306Z
UID:30038-1781510400-1781870400@graceoakcreek.org
SUMMARY:Vacation Bible School
DESCRIPTION:
URL:https://graceoakcreek.org/event/vacation-bible-school-5/
END:VEVENT
BEGIN:VEVENT
DTSTART;TZID=America/Chicago:20260618T183000
DTEND;TZID=America/Chicago:20260618T193000
DTSTAMP:20260419T162542
CREATED:20260303T161331Z
LAST-MODIFIED:20260303T161331Z
UID:30101-1781807400-1781811000@graceoakcreek.org
SUMMARY:Divine Service
DESCRIPTION:
URL:https://graceoakcreek.org/event/divine-service-65/
END:VEVENT
BEGIN:VEVENT
DTSTART;TZID=America/Chicago:20260621T090000
DTEND;TZID=America/Chicago:20260621T100000
DTSTAMP:20260419T162542
CREATED:20260303T161000Z
LAST-MODIFIED:20260303T161000Z
UID:30093-1782032400-1782036000@graceoakcreek.org
SUMMARY:Divine Service
DESCRIPTION:
URL:https://graceoakcreek.org/event/divine-service-61/
END:VEVENT
BEGIN:VEVENT
DTSTART;TZID=America/Chicago:20260625T183000
DTEND;TZID=America/Chicago:20260625T193000
DTSTAMP:20260419T162542
CREATED:20260303T161546Z
LAST-MODIFIED:20260303T161546Z
UID:30103-1782412200-1782415800@graceoakcreek.org
SUMMARY:Divine Service
DESCRIPTION:
URL:https://graceoakcreek.org/event/divine-service-66/
END:VEVENT
BEGIN:VEVENT
DTSTART;TZID=America/Chicago:20260628T090000
DTEND;TZID=America/Chicago:20260628T100000
DTSTAMP:20260419T162542
CREATED:20260303T161045Z
LAST-MODIFIED:20260303T161045Z
UID:30095-1782637200-1782640800@graceoakcreek.org
SUMMARY:Divine Service
DESCRIPTION:
URL:https://graceoakcreek.org/event/divine-service-62/
END:VEVENT
END:VCALENDAR