BEGIN:VCALENDAR
VERSION:2.0
PRODID:-//Grace Lutheran  - ECPv6.15.16//NONSGML v1.0//EN
CALSCALE:GREGORIAN
METHOD:PUBLISH
X-ORIGINAL-URL:https://graceoakcreek.org
X-WR-CALDESC:Events for Grace Lutheran 
REFRESH-INTERVAL;VALUE=DURATION:PT1H
X-Robots-Tag:noindex
X-PUBLISHED-TTL:PT1H
BEGIN:VTIMEZONE
TZID:America/Chicago
BEGIN:DAYLIGHT
TZOFFSETFROM:-0600
TZOFFSETTO:-0500
TZNAME:CDT
DTSTART:20250309T080000
END:DAYLIGHT
BEGIN:STANDARD
TZOFFSETFROM:-0500
TZOFFSETTO:-0600
TZNAME:CST
DTSTART:20251102T070000
END:STANDARD
BEGIN:DAYLIGHT
TZOFFSETFROM:-0600
TZOFFSETTO:-0500
TZNAME:CDT
DTSTART:20260308T080000
END:DAYLIGHT
BEGIN:STANDARD
TZOFFSETFROM:-0500
TZOFFSETTO:-0600
TZNAME:CST
DTSTART:20261101T070000
END:STANDARD
BEGIN:DAYLIGHT
TZOFFSETFROM:-0600
TZOFFSETTO:-0500
TZNAME:CDT
DTSTART:20270314T080000
END:DAYLIGHT
BEGIN:STANDARD
TZOFFSETFROM:-0500
TZOFFSETTO:-0600
TZNAME:CST
DTSTART:20271107T070000
END:STANDARD
END:VTIMEZONE
BEGIN:VEVENT
DTSTART;TZID=America/Chicago:20260702T183000
DTEND;TZID=America/Chicago:20260702T193000
DTSTAMP:20260419T163856
CREATED:20260303T162440Z
LAST-MODIFIED:20260303T162440Z
UID:30123-1783017000-1783020600@graceoakcreek.org
SUMMARY:Divine Service
DESCRIPTION:
URL:https://graceoakcreek.org/event/divine-service-76/
END:VEVENT
BEGIN:VEVENT
DTSTART;TZID=America/Chicago:20260705T090000
DTEND;TZID=America/Chicago:20260705T100000
DTSTAMP:20260419T163856
CREATED:20260303T161649Z
LAST-MODIFIED:20260303T161649Z
UID:30105-1783242000-1783245600@graceoakcreek.org
SUMMARY:Divine Service
DESCRIPTION:
URL:https://graceoakcreek.org/event/divine-service-67/
END:VEVENT
BEGIN:VEVENT
DTSTART;TZID=America/Chicago:20260709T183000
DTEND;TZID=America/Chicago:20260709T193000
DTSTAMP:20260419T163856
CREATED:20260303T162344Z
LAST-MODIFIED:20260303T162344Z
UID:30121-1783621800-1783625400@graceoakcreek.org
SUMMARY:Divine Service
DESCRIPTION:
URL:https://graceoakcreek.org/event/divine-service-75/
END:VEVENT
BEGIN:VEVENT
DTSTART;TZID=America/Chicago:20260712T090000
DTEND;TZID=America/Chicago:20260712T100000
DTSTAMP:20260419T163856
CREATED:20260303T161738Z
LAST-MODIFIED:20260303T161738Z
UID:30107-1783846800-1783850400@graceoakcreek.org
SUMMARY:Divine Service
DESCRIPTION:
URL:https://graceoakcreek.org/event/divine-service-68/
END:VEVENT
BEGIN:VEVENT
DTSTART;TZID=America/Chicago:20260716T183000
DTEND;TZID=America/Chicago:20260716T193000
DTSTAMP:20260419T163856
CREATED:20260303T162531Z
LAST-MODIFIED:20260303T162531Z
UID:30125-1784226600-1784230200@graceoakcreek.org
SUMMARY:Divine Service
DESCRIPTION:
URL:https://graceoakcreek.org/event/divine-service-77/
END:VEVENT
BEGIN:VEVENT
DTSTART;TZID=America/Chicago:20260719T090000
DTEND;TZID=America/Chicago:20260719T100000
DTSTAMP:20260419T163856
CREATED:20260303T161819Z
LAST-MODIFIED:20260303T161819Z
UID:30109-1784451600-1784455200@graceoakcreek.org
SUMMARY:Divine Service
DESCRIPTION:
URL:https://graceoakcreek.org/event/divine-service-69/
END:VEVENT
BEGIN:VEVENT
DTSTART;TZID=America/Chicago:20260723T183000
DTEND;TZID=America/Chicago:20260723T193000
DTSTAMP:20260419T163856
CREATED:20260303T162610Z
LAST-MODIFIED:20260303T162610Z
UID:30127-1784831400-1784835000@graceoakcreek.org
SUMMARY:Divine Service
DESCRIPTION:
URL:https://graceoakcreek.org/event/divine-service-78/
END:VEVENT
BEGIN:VEVENT
DTSTART;TZID=America/Chicago:20260726T090000
DTEND;TZID=America/Chicago:20260726T100000
DTSTAMP:20260419T163856
CREATED:20260303T161906Z
LAST-MODIFIED:20260303T161906Z
UID:30111-1785056400-1785060000@graceoakcreek.org
SUMMARY:Divine Service
DESCRIPTION:
URL:https://graceoakcreek.org/event/divine-service-70/
END:VEVENT
BEGIN:VEVENT
DTSTART;TZID=America/Chicago:20260730T183000
DTEND;TZID=America/Chicago:20260730T193000
DTSTAMP:20260419T163856
CREATED:20260303T162648Z
LAST-MODIFIED:20260303T162648Z
UID:30129-1785436200-1785439800@graceoakcreek.org
SUMMARY:Divine Service
DESCRIPTION:
URL:https://graceoakcreek.org/event/divine-service-79/
END:VEVENT
END:VCALENDAR